BEGIN:VCALENDAR
VERSION:2.0
PRODID:-//SportPlan//Event Calendar//EN
CALSCALE:GREGORIAN
BEGIN:VEVENT
UID:2e0f9ad9-0bda-4961-ad5d-f48bd4a2d442@sportplan.local
DTSTAMP:20260422T002449Z
DTSTART;VALUE=DATE:20260606
DTEND;VALUE=DATE:20260607
SUMMARY:Escanyabocs
DESCRIPTION:Escanyabocs se celebrará el 6 de junio de 2026 en La Seu d'Urgell\, Lleida. Es una buena opción para quienes buscan un reto bien organizado en un entorno atractivo. Ideal para planificar la temporada\, disfrutar del ambiente del evento y competir a tu ritmo.
LOCATION:La Seu d'Urgell\, Lleida
URL:https://sportplan.vercel.app/ja/events/escanyabocs-la-seu-d-urgell-2026-06-06
END:VEVENT
END:VCALENDAR
