BEGIN:VCALENDAR
VERSION:2.0
PRODID:-//SportPlan//Event Calendar//EN
CALSCALE:GREGORIAN
BEGIN:VEVENT
UID:801282c7-914b-4381-98fa-c9fc488bb76f@sportplan.local
DTSTAMP:20260421T200546Z
DTSTART;VALUE=DATE:20260621
DTEND;VALUE=DATE:20260622
SUMMARY:Ekiden du Stade Français
DESCRIPTION:Ekiden du Stade Français aura lieu le 21 juin 2026 à París\, dans un cadre idéal pour profiter pleinement de l'événement. Ce rendez-vous conviendra aussi bien aux participants réguliers qu'à celles et ceux qui souhaitent relever un nouveau défi.
LOCATION:París
URL:https://sportplan.vercel.app/ja/events/ekiden-du-stade-francais-paris-2026-06-21
END:VEVENT
END:VCALENDAR
