BEGIN:VCALENDAR
VERSION:2.0
PRODID:-//SportPlan//Event Calendar//EN
CALSCALE:GREGORIAN
BEGIN:VEVENT
UID:e663f685-89f3-43e2-a996-34a2e3f3c193@sportplan.local
DTSTAMP:20260421T213650Z
DTSTART;VALUE=DATE:20260328
DTEND;VALUE=DATE:20260329
SUMMARY:Duathlon Standaard Rotterdam
DESCRIPTION:Duathlon Standaard Rotterdam is an official Dutch amateur-enterable duathlon event scheduled for 2026-03-28 in Rotterdam\, South Holland\, Netherlands. The Nederlandse Triathlon Bond 2026 national championships page lists the event and links to the organizer's official page. Official site context: RBR ROTTERDAM &#8211\; Een TRI HARD series evenement
LOCATION:Rotterdam\, South Holland\, Netherlands
URL:https://sportplan.vercel.app/ja/events/duathlon-standaard-rotterdam-rotterdam-2026-03-28
END:VEVENT
END:VCALENDAR
