BEGIN:VCALENDAR
VERSION:2.0
PRODID:-//SportPlan//Event Calendar//EN
CALSCALE:GREGORIAN
BEGIN:VEVENT
UID:59ebd5e4-82ad-4af6-b61f-5c0c224524e9@sportplan.local
DTSTAMP:20260421T190254Z
DTSTART;VALUE=DATE:20260124
DTEND;VALUE=DATE:20260125
SUMMARY:Doi Inthanon Trail 60K 2026
DESCRIPTION:Doi Inthanon Trail 60K 2026 uses the official race.thai.run event page as its participant-facing registration source for the Chiang Mai region trail event on 24 January 2026. The official organizer platform confirms the event edition and live registration surface\, so the row now carries a clearer source-grounded description even though this environment did not expose a safe official hero image.
LOCATION:Chom Thong\, Chiang Mai
URL:https://sportplan.vercel.app/ja/events/doi-inthanon-trail-60k-2026-chom-thong-2026-01-24
END:VEVENT
END:VCALENDAR
