BEGIN:VCALENDAR
VERSION:2.0
PRODID:-//SportPlan//Event Calendar//EN
CALSCALE:GREGORIAN
BEGIN:VEVENT
UID:7bf9fefc-6d56-4be0-bec4-3c25facc0c31@sportplan.local
DTSTAMP:20260422T004229Z
DTSTART;VALUE=DATE:20260524
DTEND;VALUE=DATE:20260525
SUMMARY:Cyclotour du Léman 2026
DESCRIPTION:Cyclotour du Léman 2026 findet am 24. Mai 2026 in Lausanne\, Vaud statt. Die Veranstaltung ist ideal für alle\, die eine starke Event-Atmosphäre und ein gut organisiertes Sporterlebnis suchen\, mit einer Strecke von ungefähr 176 km. Eine passende Wahl für erfahrene Teilnehmende ebenso wie für alle\, die eine neue Herausforderung suchen.
LOCATION:Lausanne\, Vaud
URL:https://sportplan.vercel.app/ja/events/cyclotour-du-l-man-2026-lausanne-2026-05-24
END:VEVENT
END:VCALENDAR
