BEGIN:VCALENDAR
VERSION:2.0
PRODID:-//SportPlan//Event Calendar//EN
CALSCALE:GREGORIAN
BEGIN:VEVENT
UID:e952feac-30f0-495d-9405-3a73a8562dd3@sportplan.local
DTSTAMP:20260421T212137Z
DTSTART;VALUE=DATE:20261115
DTEND;VALUE=DATE:20261116
SUMMARY:Crossduathlon Pijnacker
DESCRIPTION:Crossduathlon Pijnacker is an official Dutch amateur-enterable cross duathlon scheduled for 15 November 2026 in Pijnacker\, South Holland\, Netherlands. The Nederlandse Triathlon Bond national championships calendar lists the event\, and the organizer-owned Run Bike Run Pijnacker site is the verified official participant-facing domain available from this runtime.
LOCATION:Pijnacker\, South Holland\, Netherlands
URL:https://sportplan.vercel.app/ja/events/crossduathlon-pijnacker-pijnacker-2026-11-15
END:VEVENT
END:VCALENDAR
