BEGIN:VCALENDAR
VERSION:2.0
PRODID:-//SportPlan//Event Calendar//EN
CALSCALE:GREGORIAN
BEGIN:VEVENT
UID:c50bec75-9b3b-4b0b-a995-933f311d56cc@sportplan.local
DTSTAMP:20260421T200627Z
DTSTART;VALUE=DATE:20260208
DTEND;VALUE=DATE:20260209
SUMMARY:Cross Duathlon d'Amay
DESCRIPTION:Official Belgian Triathlon federation championship event on 8 February 2026 in Amay\, Belgium. The Belgian Championships calendar lists Cross Duathlon d'Amay as an amateur-enterable federation race.
LOCATION:Amay\, Liège\, Belgium
URL:https://sportplan.vercel.app/ja/events/cross-duathlon-d-amay-amay-2026-02-08
END:VEVENT
END:VCALENDAR
