BEGIN:VCALENDAR
VERSION:2.0
PRODID:-//SportPlan//Event Calendar//EN
CALSCALE:GREGORIAN
BEGIN:VEVENT
UID:2868b98d-ade1-4b32-a0b1-1d3b72d092a4@sportplan.local
DTSTAMP:20260421T215946Z
DTSTART;VALUE=DATE:20260607
DTEND;VALUE=DATE:20260608
SUMMARY:CRC 506 Gran Fondo of Costa Rica 2026
DESCRIPTION:CRC 506 Gran Fondo of Costa Rica 2026 is an amateur UCI Gran Fondo qualifier on Costa Rica's Pacific coast. The organizer-owned site at ucigranfondocostarica.com presents the participant-facing event website for the Jacó race weekend.
LOCATION:Jacó\, Costa Rica
URL:https://sportplan.vercel.app/ja/events/crc-506-gran-fondo-of-costa-rica-2026-jaco-2026-06-07
END:VEVENT
END:VCALENDAR
