BEGIN:VCALENDAR
VERSION:2.0
PRODID:-//SportPlan//Event Calendar//EN
CALSCALE:GREGORIAN
BEGIN:VEVENT
UID:a3e548d9-32bb-4988-8aaf-30171999cb19@sportplan.local
DTSTAMP:20260422T015459Z
DTSTART;VALUE=DATE:20260920
DTEND;VALUE=DATE:20260921
SUMMARY:CN Olimpic 2026
DESCRIPTION:CN Olimpic 2026 is an official Romanian national standard-distance triathlon championship on 20 September 2026 in Pantelimon\, Ilfov. The Romanian Triathlon Federation event page lists Unstoppable Sport Club as organizer\, names Pantelimon as the venue\, and provides the official event image and participant-facing race page.
LOCATION:Pantelimon
URL:https://sportplan.vercel.app/ja/events/cn-olimpic-2026-pantelimon-2026-09-20
END:VEVENT
END:VCALENDAR
