BEGIN:VCALENDAR
VERSION:2.0
PRODID:-//SportPlan//Event Calendar//EN
CALSCALE:GREGORIAN
BEGIN:VEVENT
UID:de2eeeab-cee4-44c7-9e6b-f5f5df9e7b4b@sportplan.local
DTSTAMP:20260421T200952Z
DTSTART;VALUE=DATE:20260418
DTEND;VALUE=DATE:20260419
SUMMARY:CN Duatlon SuperSprint Cadeti 2026
DESCRIPTION:CN Duatlon SuperSprint Cadeti 2026 is an official Romanian Triathlon Federation supersprint cadet duathlon on 18 April 2026 at Divertiland Park in Chiajna\, Ilfov. The federation event page presents it as a participant-facing national championship race within the official Divertiland event family and publishes the official image and venue.
LOCATION:Divertiland Park\, Chiajna
URL:https://sportplan.vercel.app/ja/events/cn-duatlon-supersprint-cadeti-2026-chiajna-2026-04-18
END:VEVENT
END:VCALENDAR
