BEGIN:VCALENDAR
VERSION:2.0
PRODID:-//SportPlan//Event Calendar//EN
CALSCALE:GREGORIAN
BEGIN:VEVENT
UID:6307ecc4-8a85-4564-a265-e965bb5895b3@sportplan.local
DTSTAMP:20260422T015153Z
DTSTART;VALUE=DATE:20260606
DTEND;VALUE=DATE:20260607
SUMMARY:CN Distanta Lunga 2026
DESCRIPTION:CN Distanta Lunga 2026 is an official Romanian Triathlon Federation long-distance triathlon championship on 6 June 2026 in Oradea\, Bihor. The federation event page links the X-Man Romania organizer family\, names the Oradea venue\, and provides the official event image on the public 2026 calendar.
LOCATION:Oradea
URL:https://sportplan.vercel.app/ja/events/cn-distanta-lunga-2026-oradea-2026-06-06
END:VEVENT
END:VCALENDAR
