BEGIN:VCALENDAR
VERSION:2.0
PRODID:-//SportPlan//Event Calendar//EN
CALSCALE:GREGORIAN
BEGIN:VEVENT
UID:0bc2eda7-d6df-45bb-be1b-c9399cac38c1@sportplan.local
DTSTAMP:20260422T021136Z
DTSTART;VALUE=DATE:20260613
DTEND;VALUE=DATE:20260614
SUMMARY:CN Bazin Supersprint 2026
DESCRIPTION:CN Bazin Supersprint 2026 is an official Romanian Triathlon Federation supersprint triathlon race on 13 June 2026 at Divertiland Park in Chiajna\, Ilfov. The federation-owned event page publishes the participant-facing event listing\, venue details\, and official race image on the 2026 calendar.
LOCATION:Divertiland Park\, Chiajna
URL:https://sportplan.vercel.app/ja/events/cn-bazin-supersprint-2026-chiajna-2026-06-13
END:VEVENT
END:VCALENDAR
