BEGIN:VCALENDAR
VERSION:2.0
PRODID:-//SportPlan//Event Calendar//EN
CALSCALE:GREGORIAN
BEGIN:VEVENT
UID:b7bd1ffb-7f4e-4328-8558-aecc2aef88d0@sportplan.local
DTSTAMP:20260421T190639Z
DTSTART;VALUE=DATE:20260328
DTEND;VALUE=DATE:20260329
SUMMARY:Clean Air Ride
DESCRIPTION:
LOCATION:Inverness
URL:https://sportplan.vercel.app/ja/events/clean-air-ride-inverness-2026-03-28
END:VEVENT
END:VCALENDAR
