BEGIN:VCALENDAR
VERSION:2.0
PRODID:-//SportPlan//Event Calendar//EN
CALSCALE:GREGORIAN
BEGIN:VEVENT
UID:bfd21f98-0986-4c5f-9aa3-c3bdba35825d@sportplan.local
DTSTAMP:20260422T020113Z
DTSTART;VALUE=DATE:20260509
DTEND;VALUE=DATE:20260510
SUMMARY:Cernica Trikids Cross Duatlon by Unstoppable 2026
DESCRIPTION:Cernica Trikids Cross Duatlon by Unstoppable 2026 is an official Romanian youth cross duathlon on 9 May 2026 in Cernica\, Ilfov. The Romanian Triathlon Federation event page lists Unstoppable Sport Club as organizer\, names Cernica as the venue\, and provides the event-specific official page and image for this participant-facing junior race.
LOCATION:Cernica
URL:https://sportplan.vercel.app/ja/events/cernica-trikids-cross-duatlon-by-unstoppable-2026-cernica-2026-05-09
END:VEVENT
END:VCALENDAR
