BEGIN:VCALENDAR
VERSION:2.0
PRODID:-//SportPlan//Event Calendar//EN
CALSCALE:GREGORIAN
BEGIN:VEVENT
UID:784c86a8-9518-40bb-880b-b2b90a2f4674@sportplan.local
DTSTAMP:20260422T001208Z
DTSTART;VALUE=DATE:20260530
DTEND;VALUE=DATE:20260531
SUMMARY:Cara Amon Vertical
DESCRIPTION:Cara Amon Vertical se celebrará el 30 de mayo de 2026 en Barruera\, Lleida. Es una cita ideal para quienes buscan disfrutar del ambiente del evento y vivir una experiencia deportiva bien organizada\, con un recorrido aproximado de 5 km. Perfecto tanto para participantes habituales como para quienes quieren sumar un nuevo reto al calendario.
LOCATION:Barruera\, Lleida
URL:https://sportplan.vercel.app/ja/events/cara-amon-vertical-barruera-2026-05-30
END:VEVENT
END:VCALENDAR
