BEGIN:VCALENDAR
VERSION:2.0
PRODID:-//SportPlan//Event Calendar//EN
CALSCALE:GREGORIAN
BEGIN:VEVENT
UID:c30bb00c-122f-48b2-b34b-a7c8a28d7c52@sportplan.local
DTSTAMP:20260421T213629Z
DTSTART;VALUE=DATE:20260424
DTEND;VALUE=DATE:20260426
SUMMARY:Canyons Endurance Runs 200m By UTMB
DESCRIPTION:Canyons Endurance Runs by UTMB is an official trail-running festival in Auburn\, California\, with participant information published on the official UTMB World race site. The official page describes the event as part of the UTMB World Series and details the scenic and challenging Western States Trail terrain used by the race weekend.
LOCATION:Auburn\, California
URL:https://sportplan.vercel.app/ja/events/canyons-endurance-runs-200m-by-utmb-auburn-2026-04-24
END:VEVENT
END:VCALENDAR
