BEGIN:VCALENDAR
VERSION:2.0
PRODID:-//SportPlan//Event Calendar//EN
CALSCALE:GREGORIAN
BEGIN:VEVENT
UID:88749732-ebc7-45ed-84fd-ccb9f5eb310a@sportplan.local
DTSTAMP:20260421T231609Z
DTSTART;VALUE=DATE:20260920
DTEND;VALUE=DATE:20260921
SUMMARY:Canicross des Alpes Morzine 2026
DESCRIPTION:Canicross des Alpes Morzine 2026 aura lieu le 20 septembre 2026 à Morzine\, Haute-Savoie. C’est un rendez-vous sportif idéal avec un parcours de 12 km dans une ambiance idéale pour profiter de la course. Une belle option pour viser un chrono solide ou simplement profiter de l’expérience et de l’ambiance de l’événement.
LOCATION:Morzine\, Haute-Savoie
URL:https://sportplan.vercel.app/ja/events/canicross-des-alpes-morzine-2026-morzine-2026-09-20
END:VEVENT
END:VCALENDAR
