BEGIN:VCALENDAR
VERSION:2.0
PRODID:-//SportPlan//Event Calendar//EN
CALSCALE:GREGORIAN
BEGIN:VEVENT
UID:5892253b-1c38-42bd-a013-843ecf38230e@sportplan.local
DTSTAMP:20260421T190348Z
DTSTART;VALUE=DATE:20260201
DTEND;VALUE=DATE:20260202
SUMMARY:Canicross Animals Brunyola
DESCRIPTION:Canicross Animals Brunyola is carried in the official Mussuk Team 2025/2026 mushing competition calendar\, the organizer-run public calendar used as the canonical source family for this Catalonia canicross series listing. This row now uses that official calendar page as its participant-facing source and series image\, while keeping the event-specific title\, date\, and place already recorded on the event entry.
LOCATION:La Cellera de Ter
URL:https://sportplan.vercel.app/ja/events/canicross-animals-brunyola-la-cellera-de-ter-2026-02-01
END:VEVENT
END:VCALENDAR
