BEGIN:VCALENDAR
VERSION:2.0
PRODID:-//SportPlan//Event Calendar//EN
CALSCALE:GREGORIAN
BEGIN:VEVENT
UID:f6770a94-2381-470a-bc6a-3f1372645b48@sportplan.local
DTSTAMP:20260422T015501Z
DTSTART;VALUE=DATE:20260426
DTEND;VALUE=DATE:20260427
SUMMARY:Cal Tri Culpeper
DESCRIPTION:Cal Tri Culpeper is a participant-facing amateur multisport event at Mountain Run Lake Park in Culpeper\, Virginia on 26 April 2026. The official RunSignup race page publishes the venue\, open registration\, and a full public program with Olympic\, sprint\, and youth triathlon and related multisport options.
LOCATION:J B Carpenter Junior Drive
URL:https://sportplan.vercel.app/ja/events/cal-tri-culpeper-j-b-carpenter-junior-drive-2026-04-26
END:VEVENT
END:VCALENDAR
