BEGIN:VCALENDAR
VERSION:2.0
PRODID:-//SportPlan//Event Calendar//EN
CALSCALE:GREGORIAN
BEGIN:VEVENT
UID:51b3a2f0-f1d9-4226-8f6d-bcdd5cc86f42@sportplan.local
DTSTAMP:20260421T190755Z
DTSTART;VALUE=DATE:20260322
DTEND;VALUE=DATE:20260323
SUMMARY:Bryan Park Criterium - VCA BAR Event
DESCRIPTION:
LOCATION:Richmond
URL:https://sportplan.vercel.app/ja/events/bryan-park-criterium-vca-bar-event-richmond-2026-03-22
END:VEVENT
END:VCALENDAR
