BEGIN:VCALENDAR
VERSION:2.0
PRODID:-//SportPlan//Event Calendar//EN
CALSCALE:GREGORIAN
BEGIN:VEVENT
UID:9774925b-9a01-4aa5-be23-3c6eab5411cc@sportplan.local
DTSTAMP:20260421T190624Z
DTSTART;VALUE=DATE:20260329
DTEND;VALUE=DATE:20260330
SUMMARY:Bluebonnet Express
DESCRIPTION:
LOCATION:Waller
URL:https://sportplan.vercel.app/ja/events/bluebonnet-express-waller-2026-03-29
END:VEVENT
END:VCALENDAR
