BEGIN:VCALENDAR
VERSION:2.0
PRODID:-//SportPlan//Event Calendar//EN
CALSCALE:GREGORIAN
BEGIN:VEVENT
UID:f663eefb-935b-425f-b2f7-eb8390579105@sportplan.local
DTSTAMP:20260421T190737Z
DTSTART;VALUE=DATE:20260307
DTEND;VALUE=DATE:20260308
SUMMARY:Bkt Morga 2026 — Marcha 20K 20K
DESCRIPTION:
LOCATION:Morga
URL:https://sportplan.vercel.app/ja/events/bkt-morga-2026-marcha-20k-20k-morga-2026-03-07
END:VEVENT
END:VCALENDAR
