BEGIN:VCALENDAR
VERSION:2.0
PRODID:-//SportPlan//Event Calendar//EN
CALSCALE:GREGORIAN
BEGIN:VEVENT
UID:e1bd1654-cae2-4a11-a073-21de02ab5e34@sportplan.local
DTSTAMP:20260421T190423Z
DTSTART;VALUE=DATE:20260222
DTEND;VALUE=DATE:20260311
SUMMARY:Bike And Run du Retord
DESCRIPTION:Bike And Run du Retord is listed on the official Triathlon Bassin Bellegardien site as returning on 8 March 2026\, with the organizer page naming Stade des Etournelles de Châtillon-en-Michaille as the venue. The club-run official page is the safest participant-facing source currently verified for this amateur bike-and-run event near Valserhône.
LOCATION:Valserhône
URL:https://sportplan.vercel.app/ja/events/bike-and-run-du-retord-valserhone-2026-02-22
END:VEVENT
END:VCALENDAR
