BEGIN:VCALENDAR
VERSION:2.0
PRODID:-//SportPlan//Event Calendar//EN
CALSCALE:GREGORIAN
BEGIN:VEVENT
UID:76f3069e-5648-4e4e-a623-da674f8bbfd6@sportplan.local
DTSTAMP:20260422T021320Z
DTSTART;VALUE=DATE:20260509
DTEND;VALUE=DATE:20260510
SUMMARY:Bedford Amateur Regatta 2026
DESCRIPTION:Bedford Amateur Regatta 2026 is an official British amateur-enterable rowing event scheduled for 2026-05-09 in Bedford\, Bedfordshire\, United Kingdom. British Rowing's official 2026 competition calendar lists the event and links to Bedford Regatta's official site\, which confirms the 9 May 2026 edition\, a two-division format\, and race classes for schools\, colleges\, and clubs across multiple categories.
LOCATION:Bedford\, Bedfordshire\, United Kingdom
URL:https://sportplan.vercel.app/ja/events/bedford-amateur-regatta-2026-bedford-2026-05-09
END:VEVENT
END:VCALENDAR
