BEGIN:VCALENDAR
VERSION:2.0
PRODID:-//SportPlan//Event Calendar//EN
CALSCALE:GREGORIAN
BEGIN:VEVENT
UID:95d885ec-5971-4cce-8bf4-36f1e113590b@sportplan.local
DTSTAMP:20260421T185445Z
DTSTART;VALUE=DATE:20260208
DTEND;VALUE=DATE:20260209
SUMMARY:Barcelona Half Marathon 2026
DESCRIPTION:Official Hyundai Mitja Marató Barcelona by Brooks site for the 2026 Barcelona half marathon. The official event site presents athlete information\, race services\, and race-week resources for the city's flagship mass-participation half marathon.
LOCATION:Barcelona\, Barcelona
URL:https://sportplan.vercel.app/ja/events/barcelona-half-marathon-2026-barcelona-2026-02-08
END:VEVENT
END:VCALENDAR
