BEGIN:VCALENDAR
VERSION:2.0
PRODID:-//SportPlan//Event Calendar//EN
CALSCALE:GREGORIAN
BEGIN:VEVENT
UID:17fceab0-f625-48c0-8186-45f26ba5611b@sportplan.local
DTSTAMP:20260422T002458Z
DTSTART;VALUE=DATE:20260531
DTEND;VALUE=DATE:20260601
SUMMARY:Arruix Santa Fe
DESCRIPTION:Arruix Santa Fe es una prueba que se celebrará el 2026-05-31 en Organyà\, Lleida. Es una buena opción para quienes buscan una jornada activa y bien organizada. Ideal tanto para participantes habituales como para quienes quieren sumar una nueva experiencia al calendario.
LOCATION:Organyà\, Lleida
URL:https://sportplan.vercel.app/ja/events/arruix-santa-fe-organy-2026-05-31
END:VEVENT
END:VCALENDAR
