BEGIN:VCALENDAR
VERSION:2.0
PRODID:-//SportPlan//Event Calendar//EN
CALSCALE:GREGORIAN
BEGIN:VEVENT
UID:88387880-1299-43d4-8aab-068671e341c2@sportplan.local
DTSTAMP:20260421T200954Z
DTSTART;VALUE=DATE:20260222
DTEND;VALUE=DATE:20260228
SUMMARY:Andalucía Bike Race 2026
DESCRIPTION:The official Andalucía Bike Race site presents the event as a flagship multi-stage MTB race in Andalucía\, raced either individually or in pairs across a classic six-day format plus a shorter two-day option. The organizer highlights epic Andalusian trails\, multiple province stages\, and its long-running international amateur-participation format.
LOCATION:Córdoba\, Córdoba
URL:https://sportplan.vercel.app/ja/events/andaluc-a-bike-race-2026-c-rdoba-2026-02-22
END:VEVENT
END:VCALENDAR
