BEGIN:VCALENDAR
VERSION:2.0
PRODID:-//SportPlan//Event Calendar//EN
CALSCALE:GREGORIAN
BEGIN:VEVENT
UID:4533007b-4f8b-4f2e-be94-38c6bfd09afa@sportplan.local
DTSTAMP:20260421T231108Z
DTSTART;VALUE=DATE:20260906
DTEND;VALUE=DATE:20260907
SUMMARY:Alssundman (1/4)
DESCRIPTION:Alssundman (1/4) is an official amateur quarter-distance triathlon in the Sønderskoven area of Sønderborg\, Denmark on 6 September 2026. Triatlon Danmark lists it in the federation calendar as a membership and open motion race\, and the official Alssundman site says registration is open for the 2026 tenth-anniversary edition in Sønderskoven.
LOCATION:Sønderskoven\, Sønderborg
URL:https://sportplan.vercel.app/ja/events/alssundman-1-4-sonderborg-2026-09-06
END:VEVENT
END:VCALENDAR
