BEGIN:VCALENDAR
VERSION:2.0
PRODID:-//SportPlan//Event Calendar//EN
CALSCALE:GREGORIAN
BEGIN:VEVENT
UID:8298bbf8-e2ed-47e7-a375-8748c935a416@sportplan.local
DTSTAMP:20260421T213800Z
DTSTART;VALUE=DATE:20260607
DTEND;VALUE=DATE:20260608
SUMMARY:Al Andalus Ultimate Trail 2025 - Modalidad General
DESCRIPTION:Al Andalus Ultimate Trail 2025 - Modalidad General se celebrará en Granada el 7 de junio de 2026. Una cita ideal para disfrutar del ambiente del evento con un recorrido de 230 km y compartir una experiencia deportiva bien organizada. Perfecto tanto para participantes que buscan superarse como para quienes quieren vivir una jornada activa en un entorno especial.
LOCATION:Granada
URL:https://sportplan.vercel.app/ja/events/al-andalus-ultimate-trail-2025-modalidad-general-n-a-2026-06-07-230k
END:VEVENT
END:VCALENDAR
