BEGIN:VCALENDAR
VERSION:2.0
PRODID:-//SportPlan//Event Calendar//EN
CALSCALE:GREGORIAN
BEGIN:VEVENT
UID:01b3ca5e-bf7a-4602-a103-8d6cd7b52dde@sportplan.local
DTSTAMP:20260422T022624Z
DTSTART;VALUE=DATE:20260627
DTEND;VALUE=DATE:20260629
SUMMARY:AirAsia HYROX Jakarta 2026
DESCRIPTION:AirAsia HYROX Jakarta 2026 is the official HYROX Jakarta race weekend\, scheduled from 27 to 28 June 2026 in Jakarta\, Indonesia. The official organizer page presents the standard amateur-enterable HYROX format with solo\, doubles\, and relay race options.
LOCATION:Jakarta\, Indonesia
URL:https://sportplan.vercel.app/ja/events/airasia-hyrox-jakarta-2026-06-27
END:VEVENT
END:VCALENDAR
