BEGIN:VCALENDAR
VERSION:2.0
PRODID:-//SportPlan//Event Calendar//EN
CALSCALE:GREGORIAN
BEGIN:VEVENT
UID:896f3089-5dec-4596-b6bb-aa964299b1cb@sportplan.local
DTSTAMP:20260421T200604Z
DTSTART;VALUE=DATE:20260607
DTEND;VALUE=DATE:20260608
SUMMARY:Adidas 10k Paris
DESCRIPTION:Official adidas 10K Paris site for the 2026 race in central Paris. The event page presents this mass-participation road running event as the largest 10 km race in France and provides official participant-facing race information.
LOCATION:París
URL:https://sportplan.vercel.app/ja/events/adidas-10k-paris-paris-2026-06-07
END:VEVENT
END:VCALENDAR
