BEGIN:VCALENDAR
VERSION:2.0
PRODID:-//SportPlan//Event Calendar//EN
CALSCALE:GREGORIAN
BEGIN:VEVENT
UID:598bd113-412c-43b8-bef0-cb7db1d3b026@sportplan.local
DTSTAMP:20260422T021341Z
DTSTART;VALUE=DATE:20260425
DTEND;VALUE=DATE:20260426
SUMMARY:6h du Mont Glonne 2026 — 6h Par Equipe de 4 4K
DESCRIPTION:6h du Mont Glonne 2026 — 6h Par Equipe de 4 4K a lieu le 25 de avril de 2026 à Saint-Florent-le-Vieil. C'est un rendez-vous intéressant pour les participants à la recherche d'un événement bien organisé dans un cadre agréable. Le parcours couvre environ 4 km. Consultez les informations officielles de l'organisateur pour les horaires\, le retrait des dossards et les détails logistiques.
LOCATION:Saint-Florent-le-Vieil
URL:https://sportplan.vercel.app/ja/events/6h-du-mont-glonne-2026-6h-par-equipe-de-4-4k-saint-florent-le-vieil-2026-04-25
END:VEVENT
END:VCALENDAR
