BEGIN:VCALENDAR
VERSION:2.0
PRODID:-//SportPlan//Event Calendar//EN
CALSCALE:GREGORIAN
BEGIN:VEVENT
UID:c9a690d2-bc76-4319-8582-ff2f95380985@sportplan.local
DTSTAMP:20260421T190854Z
DTSTART;VALUE=DATE:20260316
DTEND;VALUE=DATE:20260317
SUMMARY:61a Pujada a Peu als Àngels del Geieg
DESCRIPTION:
LOCATION:Girona\, Girona\, Cataluña
URL:https://sportplan.vercel.app/ja/events/61a-pujada-a-peu-als-angels-del-geieg-girona-2026-03-16-9k
END:VEVENT
END:VCALENDAR
