BEGIN:VCALENDAR
VERSION:2.0
PRODID:-//SportPlan//Event Calendar//EN
CALSCALE:GREGORIAN
BEGIN:VEVENT
UID:c03380af-3941-41f1-b348-96db6838d814@sportplan.local
DTSTAMP:20260421T200727Z
DTSTART;VALUE=DATE:20260321
DTEND;VALUE=DATE:20260322
SUMMARY:6. Dabrova trka\, Prvenstvo Srbije u kros duatlonu 2026
DESCRIPTION:Official amateur-enterable cross duathlon at Zasavica\, Serbia on 21 March 2026. The Serbian Triathlon Federation event page publishes the canonical race page\, organizer\, image\, and a public RaceResult registration link. The linked official RaceResult event page confirms the event title\, date\, place\, and organizer STU Sava.
LOCATION:Zasavica\, Serbia
URL:https://sportplan.vercel.app/ja/events/6-dabrova-trka-zasavica-2026-03-21
END:VEVENT
END:VCALENDAR
