BEGIN:VCALENDAR
VERSION:2.0
PRODID:-//SportPlan//Event Calendar//EN
CALSCALE:GREGORIAN
BEGIN:VEVENT
UID:dcbe92f5-a781-4292-a11b-21fcab8ef326@sportplan.local
DTSTAMP:20260422T015742Z
DTSTART;VALUE=DATE:20260502
DTEND;VALUE=DATE:20260503
SUMMARY:2026 Red Stag Rotorua Marathon
DESCRIPTION:The 2026 Red Stag Rotorua Marathon is scheduled for 2 May 2026 in Rotorua. The official Athletics New Zealand event page describes the race as the original Lake Rotorua marathon and a rite of passage for runners of all levels\, making it a strong amateur-enterable road-running event.
LOCATION:Rotorua
URL:https://sportplan.vercel.app/ja/events/2026-red-stag-rotorua-marathon-rotorua-2026-05-02
END:VEVENT
END:VCALENDAR
