BEGIN:VCALENDAR
VERSION:2.0
PRODID:-//SportPlan//Event Calendar//EN
CALSCALE:GREGORIAN
BEGIN:VEVENT
UID:dfe66d4f-d5d4-4154-b9be-e9f0be10d4c7@sportplan.local
DTSTAMP:20260422T021347Z
DTSTART;VALUE=DATE:20260426
DTEND;VALUE=DATE:20260427
SUMMARY:11° Amphibianman Swimrun Lignano 2026
DESCRIPTION:
LOCATION:Piazzale Marcello D'Olivo\, Lignano Pineta
URL:https://sportplan.vercel.app/ja/events/11-amphibianman-swimrun-lignano-2026-lignano-sabbiadoro-2026-04-26
END:VEVENT
END:VCALENDAR
