BEGIN:VCALENDAR
VERSION:2.0
PRODID:-//SportPlan//Event Calendar//EN
CALSCALE:GREGORIAN
BEGIN:VEVENT
UID:a48e14a7-3119-4a0e-9063-b1cfda94a912@sportplan.local
DTSTAMP:20260421T191053Z
DTSTART;VALUE=DATE:20260111
DTEND;VALUE=DATE:20260112
SUMMARY:10K Valencia Trinidad Alfonso 2026
DESCRIPTION:The official Valencia Ciudad del Running platform presents the 10K Valencia race family alongside the city’s major amateur road-running events\, with participant information\, registration links\, and event news for Valencia.
LOCATION:Valencia\, Valencia
URL:https://sportplan.vercel.app/ja/events/10k-valencia-trinidad-alfonso-2026-valencia-2026-01-11
END:VEVENT
END:VCALENDAR
