BEGIN:VCALENDAR
VERSION:2.0
PRODID:-//SportPlan//Event Calendar//EN
CALSCALE:GREGORIAN
BEGIN:VEVENT
UID:a7559975-3c20-49d6-848b-b04d5d38980c@sportplan.local
DTSTAMP:20260421T190932Z
DTSTART;VALUE=DATE:20260421
DTEND;VALUE=DATE:20260422
SUMMARY:10K de la Mitja Marató de la Garrotxa
DESCRIPTION:10K de la Mitja Marató de la Garrotxa 2026 is part of the organizer-owned Mitja Marató de la Garrotxa race weekend in Olot\, Catalonia. Club Natació Olot hosts the official event information for this amateur road-running sub-event.
LOCATION:Olot\, Girona\, Cataluña
URL:https://sportplan.vercel.app/ja/events/10k-de-la-mitja-marato-de-la-garrotxa-olot-2026-04-21-10k
END:VEVENT
END:VCALENDAR
