BEGIN:VCALENDAR
VERSION:2.0
PRODID:-//SportPlan//Event Calendar//EN
CALSCALE:GREGORIAN
BEGIN:VEVENT
UID:b5870255-ee2f-4799-aecc-8b77ab4e27be@sportplan.local
DTSTAMP:20260420T182958Z
DTSTART;VALUE=DATE:20260612
DTEND;VALUE=DATE:20260615
SUMMARY:Zugspitz Ultra Trail By UTMB 100K
DESCRIPTION:Zugspitz Ultra Trail By UTMB 100K findet in Garmisch-Partenkirchen\, Bavaria am 12. Juni 2026 statt. Die Veranstaltung ist eine starke Gelegenheit\, die besondere Atmosphäre zu genießen mit einer Distanz von 100 km und ein gut organisiertes Sporterlebnis mitzunehmen. Geeignet für Teilnehmende\, die Leistung suchen\, ebenso wie für alle\, die einen aktiven Tag in besonderer Umgebung erleben möchten.
LOCATION:Garmisch-Partenkirchen\, Bavaria
URL:https://sportplan.vercel.app/it/events/zugspitz-ultra-trail-by-utmb-100k-garmisch-partenkirchen-2026-06-12
END:VEVENT
END:VCALENDAR
