BEGIN:VCALENDAR
VERSION:2.0
PRODID:-//SportPlan//Event Calendar//EN
CALSCALE:GREGORIAN
BEGIN:VEVENT
UID:3eccfc0e-f2af-480b-b9b5-be1c1aba5454@sportplan.local
DTSTAMP:20260420T211110Z
DTSTART;VALUE=DATE:20260704
DTEND;VALUE=DATE:20260705
SUMMARY:Zermatt Half Marathon
DESCRIPTION:official event page\; Tier 2 country scout
LOCATION:Zermatt to Riffelberg\, Switzerland
URL:https://sportplan.vercel.app/it/events/zermatt-half-marathon-2026-07-04
END:VEVENT
END:VCALENDAR
