BEGIN:VCALENDAR
VERSION:2.0
PRODID:-//SportPlan//Event Calendar//EN
CALSCALE:GREGORIAN
BEGIN:VEVENT
UID:fc9b0a2e-1041-49aa-b9f3-85931feef09f@sportplan.local
DTSTAMP:20260420T211618Z
DTSTART;VALUE=DATE:20260904
DTEND;VALUE=DATE:20260905
SUMMARY:Young Trail - Ultra Montaña Palentina
DESCRIPTION:Young Trail - Ultra Montaña Palentina se celebrará el 4 de septiembre de 2026 en Camporredondo de Alba\, Palencia\, Castilla y León. Es una buena cita para participantes y acompañantes que buscan un ambiente activo y bien organizado. La distancia anunciada es de 6 km.
LOCATION:Camporredondo de Alba\, Palencia\, Castilla y León
URL:https://sportplan.vercel.app/it/events/young-trail-ultra-montana-palentina-camporredondo-de-alba-2026-09-04-6k
END:VEVENT
END:VCALENDAR
