BEGIN:VCALENDAR
VERSION:2.0
PRODID:-//SportPlan//Event Calendar//EN
CALSCALE:GREGORIAN
BEGIN:VEVENT
UID:ee3d0cac-bded-4315-9fdb-131cbee53b3d@sportplan.local
DTSTAMP:20260421T001041Z
DTSTART;VALUE=DATE:20260718
DTEND;VALUE=DATE:20260720
SUMMARY:You Yangs Trail Running Festival
DESCRIPTION:You Yangs Trail Running Festival takes place in Melbourne on July 18\, 2026\, bringing runners together for an enjoyable event in a memorable setting. Expect with a clearly marked course and race-day atmosphere\, making it a solid choice for both committed participants and motivated newcomers.
LOCATION:Melbourne
URL:https://sportplan.vercel.app/it/events/you-yangs-trail-running-festival-melbourne-2026-07-18
END:VEVENT
END:VCALENDAR
