BEGIN:VCALENDAR
VERSION:2.0
PRODID:-//SportPlan//Event Calendar//EN
CALSCALE:GREGORIAN
BEGIN:VEVENT
UID:66cddf44-e52d-444a-8a0a-c90ff08e2e85@sportplan.local
DTSTAMP:20260420T211219Z
DTSTART;VALUE=DATE:20261025
DTEND;VALUE=DATE:20261026
SUMMARY:Yokohama Marathon
DESCRIPTION:Official Yokohama Marathon 2026 site. Event website confirms race date as 2026-10-25 and provides entry\, course\, race information\, access\, and contact details.
LOCATION:Yokohama\, Japan
URL:https://sportplan.vercel.app/it/events/yokohama-marathon-2026-10-25
END:VEVENT
END:VCALENDAR
