BEGIN:VCALENDAR
VERSION:2.0
PRODID:-//SportPlan//Event Calendar//EN
CALSCALE:GREGORIAN
BEGIN:VEVENT
UID:768e2b0b-b9c5-400b-b2bf-dbc81fa24ddc@sportplan.local
DTSTAMP:20260420T202008Z
DTSTART;VALUE=DATE:20260628
DTEND;VALUE=DATE:20260629
SUMMARY:XXXV Triatlón Hombre Maya — Triatlón Hombre Maya
DESCRIPTION:
LOCATION:El Remate
URL:https://sportplan.vercel.app/it/events/xxxv-triatlon-hombre-maya-triatlon-hombre-maya-el-remate-2026-06-28
END:VEVENT
END:VCALENDAR
