BEGIN:VCALENDAR
VERSION:2.0
PRODID:-//SportPlan//Event Calendar//EN
CALSCALE:GREGORIAN
BEGIN:VEVENT
UID:7db4b8a2-0f88-47cc-9dbb-844b6ab70b18@sportplan.local
DTSTAMP:20260420T201003Z
DTSTART;VALUE=DATE:20260501
DTEND;VALUE=DATE:20260502
SUMMARY:XXIV Medio Maratón de el Burgo de Osma
DESCRIPTION:XXIV Medio Maratón de el Burgo de Osma se celebrará el 1/5/2026 en El Burgo de Osma\, Soria\, Castilla y León\, ES\, con un recorrido de 21 km. Es una gran oportunidad para disfrutar del ambiente del evento\, marcarte un objetivo deportivo y vivir una jornada activa en un entorno especial.
LOCATION:El Burgo de Osma\, Soria\, Castilla y León
URL:https://sportplan.vercel.app/it/events/xxiv-medio-maraton-de-el-burgo-de-osma-el-burgo-de-osma-2026-05-01-21k
END:VEVENT
END:VCALENDAR
