BEGIN:VCALENDAR
VERSION:2.0
PRODID:-//SportPlan//Event Calendar//EN
CALSCALE:GREGORIAN
BEGIN:VEVENT
UID:2eabcd7e-0264-4588-98d3-5c397f9e5e03@sportplan.local
DTSTAMP:20260420T181636Z
DTSTART;VALUE=DATE:20260214
DTEND;VALUE=DATE:20260215
SUMMARY:XVIII Duatlo de Arronches
DESCRIPTION:Official Federação de Triatlo de Portugal event page for the 2026 XVIII Duatlo de Arronches.
LOCATION:Arronches\, Portugal
URL:https://sportplan.vercel.app/it/events/xviii-duatlo-de-arronches-arronches-2026-02-14
END:VEVENT
END:VCALENDAR
