BEGIN:VCALENDAR
VERSION:2.0
PRODID:-//SportPlan//Event Calendar//EN
CALSCALE:GREGORIAN
BEGIN:VEVENT
UID:2cf502f3-4a30-42ad-9bb1-b1591427d8c3@sportplan.local
DTSTAMP:20260421T001725Z
DTSTART;VALUE=DATE:20260913
DTEND;VALUE=DATE:20260914
SUMMARY:XVII Bieg Męczeństwa i Pamięci Narodowej Na Szwederowie — Bieg Główny 7.5 km 7.5K
DESCRIPTION:
LOCATION:Bydgoszcz
URL:https://sportplan.vercel.app/it/events/xvii-bieg-meczenstwa-i-pamieci-narodowej-na-szwederowie-bieg-g-owny-7-5km-7-5k-bydgoszcz-2026-09-13
END:VEVENT
END:VCALENDAR
