BEGIN:VCALENDAR
VERSION:2.0
PRODID:-//SportPlan//Event Calendar//EN
CALSCALE:GREGORIAN
BEGIN:VEVENT
UID:5904532f-10ef-49cb-889a-1e5e3bc0338a@sportplan.local
DTSTAMP:20260421T001725Z
DTSTART;VALUE=DATE:20260913
DTEND;VALUE=DATE:20260914
SUMMARY:XVII Bieg Męczeństwa i Pamięci Narodowej Na Szwederowie — Bieg Główny 2.5 km - Zapisy Parami 2.5K
DESCRIPTION:
LOCATION:Bydgoszcz
URL:https://sportplan.vercel.app/it/events/xvii-bieg-meczenstwa-i-pamieci-narodowej-na-szwederowie-bieg-g-owny-2-5km-zapisy-parami-2-5k-bydgoszcz-2026-09-13
END:VEVENT
END:VCALENDAR
