BEGIN:VCALENDAR
VERSION:2.0
PRODID:-//SportPlan//Event Calendar//EN
CALSCALE:GREGORIAN
BEGIN:VEVENT
UID:978dc070-91c3-40b4-9418-7beca20c524d@sportplan.local
DTSTAMP:20260420T195837Z
DTSTART;VALUE=DATE:20260511
DTEND;VALUE=DATE:20260512
SUMMARY:Xtrail Series Run Vallgorguina Xtrem
DESCRIPTION:Xtrail Series Run Vallgorguina Xtrem se celebra el 11 de mayo de 2026 en Vallgorguina\, Barcelona\, Cataluña. La prueba recorre 21 km. Ideal para participantes que quieren disfrutar del recorrido\, el ambiente del evento y una jornada activa.
LOCATION:Vallgorguina\, Barcelona\, Cataluña
URL:https://sportplan.vercel.app/it/events/xtrail-series-run-vallgorguina-xtrem-vallgorguina-2026-05-11-21k
END:VEVENT
END:VCALENDAR
