BEGIN:VCALENDAR
VERSION:2.0
PRODID:-//SportPlan//Event Calendar//EN
CALSCALE:GREGORIAN
BEGIN:VEVENT
UID:1be8bdab-ef30-4697-93a0-0116cac321ff@sportplan.local
DTSTAMP:20260420T224609Z
DTSTART;VALUE=DATE:20260725
DTEND;VALUE=DATE:20260726
SUMMARY:XTERRA Italy Lake Scanno
DESCRIPTION:XTERRA Italy Lake Scanno si svolgerà il 25 luglio 2026 a Scanno. È una proposta interessante per chi cerca una sfida ben organizzata e una giornata sportiva coinvolgente. Conviene controllare in anticipo i dettagli del percorso per arrivare all'evento nelle migliori condizioni.
LOCATION:Scanno
URL:https://sportplan.vercel.app/it/events/xterra-italy-lake-scanno-scanno-2026-07-25
END:VEVENT
END:VCALENDAR
